BEGIN:VCALENDAR
VERSION:2.0
PRODID:-//Garesfield Golf Club - ECPv6.15.18//NONSGML v1.0//EN
CALSCALE:GREGORIAN
METHOD:PUBLISH
X-WR-CALNAME:Garesfield Golf Club
X-ORIGINAL-URL:https://www.garesfieldgolfclub.co.uk
X-WR-CALDESC:Events for Garesfield Golf Club
REFRESH-INTERVAL;VALUE=DURATION:PT1H
X-Robots-Tag:noindex
X-PUBLISHED-TTL:PT1H
BEGIN:VTIMEZONE
TZID:UTC
BEGIN:STANDARD
TZOFFSETFROM:+0000
TZOFFSETTO:+0000
TZNAME:UTC
DTSTART:20250101T000000
END:STANDARD
END:VTIMEZONE
BEGIN:VEVENT
DTSTART;VALUE=DATE:20260324
DTEND;VALUE=DATE:20260325
DTSTAMP:20260421T113512
CREATED:20260111T115623Z
LAST-MODIFIED:20260111T115623Z
UID:10000265-1774310400-1774396799@www.garesfieldgolfclub.co.uk
SUMMARY:Pairs KO Qualifier
DESCRIPTION:
URL:https://www.garesfieldgolfclub.co.uk/event/pairs-ko-qualifier/
END:VEVENT
BEGIN:VEVENT
DTSTART;VALUE=DATE:20260328
DTEND;VALUE=DATE:20260329
DTSTAMP:20260421T113512
CREATED:20260111T115656Z
LAST-MODIFIED:20260111T115656Z
UID:10000266-1774656000-1774742399@www.garesfieldgolfclub.co.uk
SUMMARY:Winter League Final
DESCRIPTION:
URL:https://www.garesfieldgolfclub.co.uk/event/winter-league-final/
END:VEVENT
BEGIN:VEVENT
DTSTART;VALUE=DATE:20260331
DTEND;VALUE=DATE:20260401
DTSTAMP:20260421T113512
CREATED:20260111T115739Z
LAST-MODIFIED:20260111T115739Z
UID:10000267-1774915200-1775001599@www.garesfieldgolfclub.co.uk
SUMMARY:Seniors Team Away / Ryton
DESCRIPTION:
URL:https://www.garesfieldgolfclub.co.uk/event/seniors-team-away-ryton/
END:VEVENT
END:VCALENDAR