BEGIN:VCALENDAR
VERSION:2.0
PRODID:-//Garesfield Golf Club - ECPv6.15.18//NONSGML v1.0//EN
CALSCALE:GREGORIAN
METHOD:PUBLISH
X-ORIGINAL-URL:https://www.garesfieldgolfclub.co.uk
X-WR-CALDESC:Events for Garesfield Golf Club
REFRESH-INTERVAL;VALUE=DURATION:PT1H
X-Robots-Tag:noindex
X-PUBLISHED-TTL:PT1H
BEGIN:VTIMEZONE
TZID:UTC
BEGIN:STANDARD
TZOFFSETFROM:+0000
TZOFFSETTO:+0000
TZNAME:UTC
DTSTART:20250101T000000
END:STANDARD
END:VTIMEZONE
BEGIN:VEVENT
DTSTART;VALUE=DATE:20260425
DTEND;VALUE=DATE:20260426
DTSTAMP:20260425T123108
CREATED:20260111T120305Z
LAST-MODIFIED:20260111T120305Z
UID:10000278-1777075200-1777161599@www.garesfieldgolfclub.co.uk
SUMMARY:E Natrass Trophy
DESCRIPTION:
URL:https://www.garesfieldgolfclub.co.uk/event/e-natrass-trophy/
END:VEVENT
BEGIN:VEVENT
DTSTART;VALUE=DATE:20260428
DTEND;VALUE=DATE:20260429
DTSTAMP:20260425T123108
CREATED:20260111T120333Z
LAST-MODIFIED:20260111T120333Z
UID:10000279-1777334400-1777420799@www.garesfieldgolfclub.co.uk
SUMMARY:Ted Thirlwell - Shotgun
DESCRIPTION:
URL:https://www.garesfieldgolfclub.co.uk/event/ted-thirlwell-shotgun/
END:VEVENT
END:VCALENDAR